BEGIN:VCALENDAR
VERSION:2.0
PRODID:-//Soribeat - ECPv6.15.15//NONSGML v1.0//EN
CALSCALE:GREGORIAN
METHOD:PUBLISH
X-ORIGINAL-URL:https://soribeat.org
X-WR-CALDESC:Events for Soribeat
REFRESH-INTERVAL;VALUE=DURATION:PT1H
X-Robots-Tag:noindex
X-PUBLISHED-TTL:PT1H
BEGIN:VTIMEZONE
TZID:America/Chicago
BEGIN:DAYLIGHT
TZOFFSETFROM:-0600
TZOFFSETTO:-0500
TZNAME:CDT
DTSTART:20190310T080000
END:DAYLIGHT
BEGIN:STANDARD
TZOFFSETFROM:-0500
TZOFFSETTO:-0600
TZNAME:CST
DTSTART:20191103T070000
END:STANDARD
BEGIN:DAYLIGHT
TZOFFSETFROM:-0600
TZOFFSETTO:-0500
TZNAME:CDT
DTSTART:20200308T080000
END:DAYLIGHT
BEGIN:STANDARD
TZOFFSETFROM:-0500
TZOFFSETTO:-0600
TZNAME:CST
DTSTART:20201101T070000
END:STANDARD
BEGIN:DAYLIGHT
TZOFFSETFROM:-0600
TZOFFSETTO:-0500
TZNAME:CDT
DTSTART:20210314T080000
END:DAYLIGHT
BEGIN:STANDARD
TZOFFSETFROM:-0500
TZOFFSETTO:-0600
TZNAME:CST
DTSTART:20211107T070000
END:STANDARD
END:VTIMEZONE
BEGIN:VEVENT
DTSTART;TZID=America/Chicago:20200926T190000
DTEND;TZID=America/Chicago:20200926T210000
DTSTAMP:20260419T133533
CREATED:20200619T002512Z
LAST-MODIFIED:20200803T022637Z
UID:860-1601146800-1601154000@soribeat.org
SUMMARY:KPAC Annual Show-CANCELED
DESCRIPTION:KPAC youth and adult members as well as KPAC artists in residence present various Korean performing arts programs.
URL:https://soribeat.org/event/kpac-annual-show/
LOCATION:North Shore Center for the Performing Arts\, 9501 Skokie Blvd\, Skokie\, IL\, United States
CATEGORIES:Concert
ATTACH;FMTTYPE=image/jpeg:https://soribeat.org/wp-content/uploads/2020/06/Samul-nori-pankut-scaled.jpg
END:VEVENT
BEGIN:VEVENT
DTSTART;TZID=America/Chicago:20200919T200000
DTEND;TZID=America/Chicago:20200919T220000
DTSTAMP:20260419T133533
CREATED:20200911T175308Z
LAST-MODIFIED:20200911T180644Z
UID:1556-1600545600-1600552800@soribeat.org
SUMMARY:Samulnori in Chicago
DESCRIPTION:A virtual Korean traditional percussion music concert! The concert will be streamed at the following times:\nPREMIERE Sat\, September 19 at 8pm CDT on the Consulate’s Facebook page https://tinyurl.com/yxk2herx\nREBROADCAST Sat\, September 19 at 9pm CDT on KPAC’s YouTube channel https://www.youtube.com/channel/UCc1ihsBl0DszoWKjHqggK1w
URL:https://soribeat.org/event/samulnori-in-chicago/
ATTACH;FMTTYPE=image/jpeg:https://soribeat.org/wp-content/uploads/2020/09/AD-예술원-한국주간.00_01_06_19.Still005.jpg
END:VEVENT
BEGIN:VEVENT
DTSTART;TZID=America/Chicago:20200912T190000
DTEND;TZID=America/Chicago:20200912T200000
DTSTAMP:20260419T133533
CREATED:20200616T083730Z
LAST-MODIFIED:20200911T180208Z
UID:433-1599937200-1599940800@soribeat.org
SUMMARY:Chicago Drum Festival-CANCELED
DESCRIPTION:KPAC hosts the 2nd Chicago Drum Festival by inviting various ethnic percussion groups. Due to the COVID pandemic\, the festival will be held as a virtual concert.
URL:https://soribeat.org/event/chicago-drum-festival/
CATEGORIES:Concert
ATTACH;FMTTYPE=image/jpeg:https://soribeat.org/wp-content/uploads/2020/06/Aug-15-soribeat.jpg
END:VEVENT
BEGIN:VEVENT
DTSTART;TZID=America/Chicago:20200827T203000
DTEND;TZID=America/Chicago:20200827T220000
DTSTAMP:20260419T133533
CREATED:20200617T054730Z
LAST-MODIFIED:20200803T022657Z
UID:614-1598560200-1598565600@soribeat.org
SUMMARY:Samul-nori in Chicago-CANCELED
DESCRIPTION:KPAC presents authentic samul-nori (Korean drumming genre) programs. One of the samul-nori concert series.
URL:https://soribeat.org/event/samul-nori-in-chicago-3/
LOCATION:Constellation Theater\, 3111 N Western Ave\, Chicago\, IL\, United States
CATEGORIES:Samul-nori
ATTACH;FMTTYPE=image/jpeg:https://soribeat.org/wp-content/uploads/2020/06/Chansoo-Lee-scaled.jpg
END:VEVENT
BEGIN:VEVENT
DTSTART;TZID=America/Chicago:20200814T210000
DTEND;TZID=America/Chicago:20200814T220000
DTSTAMP:20260419T133533
CREATED:20200619T002717Z
LAST-MODIFIED:20200814T182118Z
UID:862-1597438800-1597442400@soribeat.org
SUMMARY:PROJECT UL-SSI-GU ::  Around the world
DESCRIPTION:KPAC has been hosting and organizing an annual global pungmul (Korean drumming) festival called Project  UL-SSI-GU since 2014. This event is aimed to celebrate the Liberation Day of Korea\, August 15th by doing street pungmul performances around the world. Due to the COVID pandemic\, the event will be held as a YouTube live streaming event on August 14. Seven groups from the US\, Korea\, Mexico\, Malaysia\, Australia\, and Russia participate in the project. \n\nAugust 14 at 9 pm (CST)\nhttps://youtu.be/6eFyRxqn-HQ\n\n\n\nAugust 15 at 6 am (CST)\nhttps://youtu.be/x2fA9CYeDHM
URL:https://soribeat.org/event/project-ul-ssi-gu/
CATEGORIES:UL-SSI-GU
ATTACH;FMTTYPE=image/jpeg:https://soribeat.org/wp-content/uploads/2020/06/Chicago-Poster-scaled.jpg
END:VEVENT
BEGIN:VEVENT
DTSTART;TZID=America/Chicago:20200724T153000
DTEND;TZID=America/Chicago:20200724T153000
DTSTAMP:20260419T133533
CREATED:20200616T083011Z
LAST-MODIFIED:20200625T204947Z
UID:427-1595604600-1595604600@soribeat.org
SUMMARY:Samul-nori in Chicago - Canceled
DESCRIPTION:KPAC presents authentic samul-nori (Korean drumming genre) programs. One of the samul-nori concert series.
URL:https://soribeat.org/event/samul-nori-in-chicago/
LOCATION:Constellation Theater\, 3111 N Western Ave\, Chicago\, IL\, United States
CATEGORIES:Samul-nori
ATTACH;FMTTYPE=image/jpeg:https://soribeat.org/wp-content/uploads/2020/06/GPI_Sangmo-Pankut-3-scaled.jpg
END:VEVENT
BEGIN:VEVENT
DTSTART;TZID=America/Chicago:20200626T153000
DTEND;TZID=America/Chicago:20200626T153000
DTSTAMP:20260419T133533
CREATED:20200618T232635Z
LAST-MODIFIED:20200626T221349Z
UID:842-1593185400-1593185400@soribeat.org
SUMMARY:Samul-nori in Chicago - Canceled
DESCRIPTION:KPAC presents authentic samul-nori (Korean drumming genre) programs. One of the samul-nori concert series. \nCanceled due to the COVID 19 outbreak.
URL:https://soribeat.org/event/samul-nori-in-chicago-canceled/
LOCATION:Constellation Theater\, 3111 N Western Ave\, Chicago\, IL\, United States
CATEGORIES:Samul-nori
ATTACH;FMTTYPE=image/jpeg:https://soribeat.org/wp-content/uploads/2020/06/June-26-soribeat.jpg
END:VEVENT
BEGIN:VEVENT
DTSTART;TZID=America/Chicago:20200516T140000
DTEND;TZID=America/Chicago:20200516T140000
DTSTAMP:20260419T133533
CREATED:20200616T074742Z
LAST-MODIFIED:20200617T081033Z
UID:409-1589637600-1589637600@soribeat.org
SUMMARY:Rhythm Connections Concert
DESCRIPTION:KPAC’s artists showcase new performance programs. Ticket $15.  \nCanceled due to the COVID 19 outbreak. 
URL:https://soribeat.org/event/rhythm-connections-concert/
LOCATION:Constellation Theater\, 3111 N Western Ave\, Chicago\, IL\, United States
CATEGORIES:Concert
ATTACH;FMTTYPE=image/jpeg:https://soribeat.org/wp-content/uploads/2020/06/project_rhythm-connections.jpg
END:VEVENT
BEGIN:VEVENT
DTSTART;TZID=America/Chicago:20200416T140000
DTEND;TZID=America/Chicago:20200416T140000
DTSTAMP:20260419T133533
CREATED:20200616T074453Z
LAST-MODIFIED:20200617T081016Z
UID:407-1587045600-1587045600@soribeat.org
SUMMARY:Concert for Sewol Ferry Tragedy
DESCRIPTION:Commemorative Concert for the victims of the tragedy by KPAC’s artists. Free admission. Canceled due to the COVID 19 outbreak.
URL:https://soribeat.org/event/concert-for-sewol-ferry-tragedy/
LOCATION:Korean Cultural Center of Chicago\, 9930 Capitol Dr.\, Wheeling\, IL\, 60090\, United States
CATEGORIES:Concert
END:VEVENT
END:VCALENDAR