BEGIN:VCALENDAR
VERSION:2.0
PRODID:-//Soribeat - ECPv6.15.15//NONSGML v1.0//EN
CALSCALE:GREGORIAN
METHOD:PUBLISH
X-ORIGINAL-URL:https://soribeat.org
X-WR-CALDESC:Events for Soribeat
REFRESH-INTERVAL;VALUE=DURATION:PT1H
X-Robots-Tag:noindex
X-PUBLISHED-TTL:PT1H
BEGIN:VTIMEZONE
TZID:America/Chicago
BEGIN:DAYLIGHT
TZOFFSETFROM:-0600
TZOFFSETTO:-0500
TZNAME:CDT
DTSTART:20210314T080000
END:DAYLIGHT
BEGIN:STANDARD
TZOFFSETFROM:-0500
TZOFFSETTO:-0600
TZNAME:CST
DTSTART:20211107T070000
END:STANDARD
BEGIN:DAYLIGHT
TZOFFSETFROM:-0600
TZOFFSETTO:-0500
TZNAME:CDT
DTSTART:20220313T080000
END:DAYLIGHT
BEGIN:STANDARD
TZOFFSETFROM:-0500
TZOFFSETTO:-0600
TZNAME:CST
DTSTART:20221106T070000
END:STANDARD
BEGIN:DAYLIGHT
TZOFFSETFROM:-0600
TZOFFSETTO:-0500
TZNAME:CDT
DTSTART:20230312T080000
END:DAYLIGHT
BEGIN:STANDARD
TZOFFSETFROM:-0500
TZOFFSETTO:-0600
TZNAME:CST
DTSTART:20231105T070000
END:STANDARD
END:VTIMEZONE
BEGIN:VEVENT
DTSTART;TZID=America/Chicago:20220813T090000
DTEND;TZID=America/Chicago:20220813T090000
DTSTAMP:20260419T075807
CREATED:20220611T235333Z
LAST-MODIFIED:20220906T024226Z
UID:1885-1660381200-1660381200@soribeat.org
SUMMARY:2022 Korean Music Conference
DESCRIPTION:2022 Korean Music Conference Registration Form >>\n 
URL:https://soribeat.org/event/2022-korean-music-conference/
CATEGORIES:Conference
ATTACH;FMTTYPE=image/png:https://soribeat.org/wp-content/uploads/2022/06/Poster_Final-2.png
END:VEVENT
END:VCALENDAR